BEGIN:VCALENDAR
VERSION:2.0
PRODID:-//Kauppapuutarhaliitto - ECPv6.15.20//NONSGML v1.0//EN
CALSCALE:GREGORIAN
METHOD:PUBLISH
X-WR-CALNAME:Kauppapuutarhaliitto
X-ORIGINAL-URL:https://kauppapuutarhaliitto.fi
X-WR-CALDESC:Tapahtumat Kauppapuutarhaliitto
REFRESH-INTERVAL;VALUE=DURATION:PT1H
X-Robots-Tag:noindex
X-PUBLISHED-TTL:PT1H
BEGIN:VTIMEZONE
TZID:Europe/Helsinki
BEGIN:DAYLIGHT
TZOFFSETFROM:+0200
TZOFFSETTO:+0300
TZNAME:EEST
DTSTART:20250330T010000
END:DAYLIGHT
BEGIN:STANDARD
TZOFFSETFROM:+0300
TZOFFSETTO:+0200
TZNAME:EET
DTSTART:20251026T010000
END:STANDARD
BEGIN:DAYLIGHT
TZOFFSETFROM:+0200
TZOFFSETTO:+0300
TZNAME:EEST
DTSTART:20260329T010000
END:DAYLIGHT
BEGIN:STANDARD
TZOFFSETFROM:+0300
TZOFFSETTO:+0200
TZNAME:EET
DTSTART:20261025T010000
END:STANDARD
BEGIN:DAYLIGHT
TZOFFSETFROM:+0200
TZOFFSETTO:+0300
TZNAME:EEST
DTSTART:20270328T010000
END:DAYLIGHT
BEGIN:STANDARD
TZOFFSETFROM:+0300
TZOFFSETTO:+0200
TZNAME:EET
DTSTART:20271031T010000
END:STANDARD
END:VTIMEZONE
BEGIN:VEVENT
DTSTART;TZID=Europe/Helsinki:20260415T080000
DTEND;TZID=Europe/Helsinki:20260415T170000
DTSTAMP:20260421T123203
CREATED:20260313T130839Z
LAST-MODIFIED:20260313T130927Z
UID:7450-1776240000-1776272400@kauppapuutarhaliitto.fi
SUMMARY:Kevätretki Pohjanmaalle
DESCRIPTION:Kauppapuutarhaliiton kevätretki Pohjanmaalle! \nKauppapuutarhaliitto järjestää kevätretken Pohjanmaalle keskiviikkona 15.4.2026. Ilmoittaudu mukaan!\nRetki on avoin kaikille Kauppapuutarhaliiton jäsenille. Maksimiosallistujamäärä rajataan 30 henkilöön.\nOsallistujat vastaavat itse liikkumisistaan retken aikana. Kauppapuutarhaliitto järjestää kaikille suojavarusteet vierailuja varten\, kaikilta osallistujilta peritään 10 euron haalarimaksu. \nILMOITTAUDU MUKAAN TÄÄLLÄ \nOhjelma 15.4 \nKello 10.00-11.15 Vaasan Vihannes\, Kairatie 2\, 65350 Vaasa. Vaasassa toimiva perinteinen vihannespakkaamo. \nLounas 11.40-12.40 Buffetlounas (Omakustanteinen)\, Minettes Kök\, Köpingsvägen 10 C\, 66100 Maalahti \nNoin kello 13.00-14.15 Korsnäs Handelsträdgård Ab\, Kyrkobyvägen 55\, 66200 Korsnäs. Tuotannossa muun muassa koristekasveja ja vihannestaimia. \nNoin kello 15.00- Söderlunds Trädgård Oy/Ab\, Korsnäsvägen 204\, 64610 Övermark. Ruukkukasveja ja istutuskasveja viljelevä perheyritys\, noin 20 000m2 pinta-alaa ensisijaisesti lasin alla. \nVaraamme oikeuden tehdä pieniä muutoksia aikatauluun. \nMuuta:\nIllalla 15.4. järjestetään mielenkiintoinen seminaari Närpiössä: Plant Empowerment in Finland -seminaari järjestetään 19.30 alkean hotelli Red & Greenissä Närpiön keskustassa. Nopeimmat 40 ilmoittautujaa mahtuvat mukaan: Ilmoittaudu tämän linkin kautta: https://www.plantempowerment.com/event/introduction-to-plant-empowerment-narpes-finland/. \nRetkeä seuraavana päivänä 16.5. Närpiössä järjestetään perinteinen TrädgårdsExpo keskustassa hotelli Red & Green:n tiloissa Närpiön keskustassa:\nwww.facebook.com/events/1530793611407884/?active_tab=about\nOsallistujat voivat halutessaan itse järjestää matkaohjelmansa siten\, että osallistuu myös seminaariin ja messuille. Huomaa että seminaari ja messut ovat omat\, erilliset tapahtumansa jotka eivät liity suoraan Kevätretkeen.
URL:https://kauppapuutarhaliitto.fi/tapahtuma/kevatretki-pohjanmaalle/
CATEGORIES:Yleinen
ATTACH;FMTTYPE=image/jpeg:https://kauppapuutarhaliitto.fi/wp-content/uploads/2024/04/MG_2176-scaled.jpg
END:VEVENT
END:VCALENDAR