BEGIN:VCALENDAR
VERSION:2.0
PRODID:-//Kauppapuutarhaliitto - ECPv6.15.20//NONSGML v1.0//EN
CALSCALE:GREGORIAN
METHOD:PUBLISH
X-WR-CALNAME:Kauppapuutarhaliitto
X-ORIGINAL-URL:https://kauppapuutarhaliitto.fi
X-WR-CALDESC:Tapahtumat Kauppapuutarhaliitto
REFRESH-INTERVAL;VALUE=DURATION:PT1H
X-Robots-Tag:noindex
X-PUBLISHED-TTL:PT1H
BEGIN:VTIMEZONE
TZID:Europe/Helsinki
BEGIN:DAYLIGHT
TZOFFSETFROM:+0200
TZOFFSETTO:+0300
TZNAME:EEST
DTSTART:20250330T010000
END:DAYLIGHT
BEGIN:STANDARD
TZOFFSETFROM:+0300
TZOFFSETTO:+0200
TZNAME:EET
DTSTART:20251026T010000
END:STANDARD
BEGIN:DAYLIGHT
TZOFFSETFROM:+0200
TZOFFSETTO:+0300
TZNAME:EEST
DTSTART:20260329T010000
END:DAYLIGHT
BEGIN:STANDARD
TZOFFSETFROM:+0300
TZOFFSETTO:+0200
TZNAME:EET
DTSTART:20261025T010000
END:STANDARD
BEGIN:DAYLIGHT
TZOFFSETFROM:+0200
TZOFFSETTO:+0300
TZNAME:EEST
DTSTART:20270328T010000
END:DAYLIGHT
BEGIN:STANDARD
TZOFFSETFROM:+0300
TZOFFSETTO:+0200
TZNAME:EET
DTSTART:20271031T010000
END:STANDARD
END:VTIMEZONE
BEGIN:VEVENT
DTSTART;TZID=Europe/Helsinki:20260420T150000
DTEND;TZID=Europe/Helsinki:20260420T160000
DTSTAMP:20260420T143435
CREATED:20260310T133804Z
LAST-MODIFIED:20260313T131418Z
UID:7438-1776697200-1776700800@kauppapuutarhaliitto.fi
SUMMARY:KPL Akatemia: Miten kohtaan toimittajan?
DESCRIPTION:Webinaarissa opit\, miten valmistaudut median haastatteluun niin\, että viestisi pysyy selkeänä ja tavoitteellisena. Saat käytännön vinkit siihen\, miten kiteytät pääviestisi\, vastaat haastaviin kysymyksiin rauhallisesti ja tuot esiin kasvihuoneyrittäjän näkökulman ymmärrettävästi ja kiinnostavasti. Lisäksi opit välttämään tyypillisimmät sudenkuopat ja hyödyntämään medianäkyvyyden oman yrityksesi ja koko alan hyväksi.\n\nTule kuulemaan aiheesta webinaariin maanantaina 20.4.2026 klo 15-16\, puhujana Minna Rantala\, Kauppapuutarhaliitto ry\n\n\nILMOITTAUDU MUKAAN TÄÄLLÄ\n\nKPL Akatemian etäkursseilla alansa asiantuntijat pitävät tietoiskuja kasvihuoneviljelyyn ja yrittämiseen liittyvistä aiheista. Kaikki KPL Akatemian koulutukset järjestetään webinaareina Teamsin kautta. Osallistua voivat Kauppapuutarhaliiton jäsenyrittäjät ja heidän työntekijänsä.
URL:https://kauppapuutarhaliitto.fi/tapahtuma/kpl-akatemia-miten-kohtaan-toimittajan-2/
CATEGORIES:Yleinen
ATTACH;FMTTYPE=image/jpeg:https://kauppapuutarhaliitto.fi/wp-content/uploads/2020/09/KPL_akatemia_logo_taustalla_900px-kopio.jpg
END:VEVENT
END:VCALENDAR