BEGIN:VCALENDAR
VERSION:2.0
PRODID:-//Kauppapuutarhaliitto - ECPv6.15.20//NONSGML v1.0//EN
CALSCALE:GREGORIAN
METHOD:PUBLISH
X-WR-CALNAME:Kauppapuutarhaliitto
X-ORIGINAL-URL:https://kauppapuutarhaliitto.fi
X-WR-CALDESC:Tapahtumat Kauppapuutarhaliitto
REFRESH-INTERVAL;VALUE=DURATION:PT1H
X-Robots-Tag:noindex
X-PUBLISHED-TTL:PT1H
BEGIN:VTIMEZONE
TZID:Europe/Helsinki
BEGIN:DAYLIGHT
TZOFFSETFROM:+0200
TZOFFSETTO:+0300
TZNAME:EEST
DTSTART:20250330T010000
END:DAYLIGHT
BEGIN:STANDARD
TZOFFSETFROM:+0300
TZOFFSETTO:+0200
TZNAME:EET
DTSTART:20251026T010000
END:STANDARD
BEGIN:DAYLIGHT
TZOFFSETFROM:+0200
TZOFFSETTO:+0300
TZNAME:EEST
DTSTART:20260329T010000
END:DAYLIGHT
BEGIN:STANDARD
TZOFFSETFROM:+0300
TZOFFSETTO:+0200
TZNAME:EET
DTSTART:20261025T010000
END:STANDARD
BEGIN:DAYLIGHT
TZOFFSETFROM:+0200
TZOFFSETTO:+0300
TZNAME:EEST
DTSTART:20270328T010000
END:DAYLIGHT
BEGIN:STANDARD
TZOFFSETFROM:+0300
TZOFFSETTO:+0200
TZNAME:EET
DTSTART:20271031T010000
END:STANDARD
END:VTIMEZONE
BEGIN:VEVENT
DTSTART;TZID=Europe/Helsinki:20260423T100000
DTEND;TZID=Europe/Helsinki:20260423T160000
DTSTAMP:20260423T025309
CREATED:20260331T100257Z
LAST-MODIFIED:20260331T100257Z
UID:7487-1776938400-1776960000@kauppapuutarhaliitto.fi
SUMMARY:Ryhmäkasviretki Keski-Suomeen
DESCRIPTION:Tervetuloa tutustumaan kauppapuutarhoille Keski-Suomeen! Kauppapuutarhaliitto järjestää retken torstaina 23.4. retken kolmelle koristekasveja viljelevälle puutarhalle. Kaikki Kauppapuutarhaliiton jäsenyritykset ovat tervetulleita retkelle!\n\nOHJELMA 23.4.\n\nKlo 10:00 Urosen Kauppapuutarha\, Kovasintie 11\, 42220 Kaipola\nKlo 11:45 Lounas Witikkalan kartano\, Koskentie 12\, 42100 Jämsä\nKlo 13:00 Honkasen Kauppapuutarha\, Perälänraitti 145\, 41820 Saakoski\nKlo 14:30 Puutarha Suokukka\, Saakoskentie 244\, 41820 Saakoski \nIlmoittaudu mukaan täällä  \nTervetuloa!
URL:https://kauppapuutarhaliitto.fi/tapahtuma/ryhmakasviretki-keski-suomeen/
CATEGORIES:Yleinen
ATTACH;FMTTYPE=image/jpeg:https://kauppapuutarhaliitto.fi/wp-content/uploads/2026/03/MG_9902-kopio.jpg
END:VEVENT
END:VCALENDAR